Workbook

Sheet Лист1
A1: Школа | F1: Утвердил: | G1: должность | H1: директор
A2: Типовое примерное меню приготавливаемых блюд | G2: фамилия | H2: Юскаева Р.Ф.
A3: Возрастная категория | D3: 5-11 классы | G3: дата | H3: 45196
A5: Неделя | B5: День недели | C5: Прием пищи | D5: Раздел меню | E5: Блюда | F5: Вес блюда, г | G5: Белки | H5: Жиры | I5: Углеводы | J5: Калорийность | K5: № рецептуры | L5: Цена
A6: 4 | B6: 3 | C6: Завтрак | D6: гор.блюдо | E6: =[1]Лист1!$C$190 -> ПЮРЕ ГОРОХОВОЕ | F6: 200 | G6: =[2]Page1!G159 -> 20.1 | H6: =[2]Page1!H159 -> 7.7 | I6: =[2]Page1!I159 -> 47.2 | J6: =[2]Page1!J159 -> 364 | K6: 2004
E7: =[1]Лист1!$C$191 -> ФРИКАДЕЛЬКИ ИЗ ГОВЯДИНЫ, ТУШЕНЫЕ В СОУСЕ | F7: 120 | G7: =[2]Page1!G161 -> 10.7 | H7: =[2]Page1!H161 -> 9.6 | I7: =[2]Page1!I161 -> 8.4 | J7: =[2]Page1!J161 -> 165 | K7: 2004
D8: гор.напиток | E8: =[1]Лист1!$C$193 -> КОМПОТ ИЗ СМЕСИ СУХОФРУКТОВ | F8: 200 | G8: =[1]Лист1!G193 -> 0.5 | H8: =[1]Лист1!H193 -> 0.1 | I8: =[1]Лист1!I193 -> 30.9 | J8: =[1]Лист1!J193 -> 123 | K8: 2004
D9: хлеб | E9: =[1]Лист1!$C$188 -> ХЛЕБ ПШЕНИЧНЫЙ | F9: 60 | G9: =[2]Page1!G158 -> 4.74 | H9: =[2]Page1!H158 -> 0.6 | I9: =[2]Page1!I158 -> 28.98 | J9: =[2]Page1!J158 -> 147.6 | K9: 2008
D10: фрукты | E10: =[1]Лист1!$C$192 -> ЙОГУРТ | F10: 125 | G10: =[2]Page1!G163 -> 4 | H10: =[2]Page1!H163 -> 3.1 | I10: =[2]Page1!I163 -> 5 | J10: =[2]Page1!J163 -> 63.8 | K10: 2015
D13: итого | G13: =[2]Page1!G164 -> 44.74 | H13: =[2]Page1!H164 -> 28.4 | I13: =[2]Page1!I164 -> 151.18 | J13: =[2]Page1!J164 -> 1078.4
A14: =A6 -> 4 | B14: =B6 -> 3
D23: итого
A24: =A6 -> 4 | B24: =B6 -> 3 | C24: Итого за день:
