{"text_format":"3","workbook":"xlsx","n_sheets":1,"sheets":["Лист1"],"not_rendered":{"external_links":1},"read":"whole","date_system":"1900"}

{"sheet":"Лист1","index":0,"n_rows":24,"n_cols":12,"rows_kept":24,"merged":[[0,2,0,4],[0,7,0,10],[1,7,1,10],[2,7,2,10],[23,2,23,3]]}
["Школа",{"$nulls":4},"Утвердил:","должность","директор"]
["Типовое примерное меню приготавливаемых блюд",{"$nulls":5},"фамилия","Юскаева Р.Ф."]
["Возрастная категория",null,null,"1-4 классы",null,null,"дата","19.09.2023 г."]
[]
["Неделя","День недели","Прием пищи","Раздел меню","Блюда","Вес блюда, г","Белки","Жиры","Углеводы","Калорийность","№ рецептуры","Цена"]
[3,2,"Завтрак","гор.блюдо",{"$f":"[1]Лист1!$C$36","v":"КОТЛЕТЫ РУБЛЕНЫЕ ИЗ ПТИЦЫ"},90,{"$f":"[1]Лист1!G36","v":13.5},{"$f":"[1]Лист1!H36","v":19.3},{"$f":"[1]Лист1!I36","v":13.9},{"$f":"[1]Лист1!J36","v":286},2003]
[{"$nulls":4},{"$f":"[1]Лист1!$C$35","v":"КАША ГРЕЧНЕВАЯ РАССЫПЧАТАЯ "},150,{"$f":"[1]Лист1!G35","v":8.8},{"$f":"[1]Лист1!H35","v":5.6},{"$f":"[1]Лист1!I35","v":38.5},{"$f":"[1]Лист1!J35","v":260},2004]
[{"$nulls":3},"гор.напиток"]
[{"$nulls":3},"хлеб",{"$f":"[1]Лист1!$C$34","v":"ХЛЕБ ПШЕНИЧНЫЙ"},50,{"$f":"[1]Лист1!G34","v":4},{"$f":"[1]Лист1!H34","v":0.5},{"$f":"[1]Лист1!I34","v":24.2},{"$f":"[1]Лист1!J34","v":122},2008]
[{"$nulls":3},"фрукты",{"$f":"[1]Лист1!$C$40","v":"СВЕЖИЕ ФРУКТЫ "},100,{"$f":"[1]Лист1!G40","v":0.4},{"$f":"[1]Лист1!H40","v":0.4},{"$f":"[1]Лист1!I40","v":9.8},{"$f":"[1]Лист1!J40","v":47},2018]
[{"$nulls":4},{"$f":"[1]Лист1!$C$39","v":"НАПИТОК С ВИТАМИНАМИ \"ВИТОШКА\""},200,{"$f":"[1]Лист1!G39","v":0},{"$f":"[1]Лист1!H39","v":0},{"$f":"[1]Лист1!I39","v":19},{"$f":"[1]Лист1!J39","v":75},2016]
[]
[{"$nulls":3},"итого",null,null,{"$f":"[1]Лист1!G41","v":72.4},{"$f":"[1]Лист1!H41","v":88.4},{"$f":"[1]Лист1!I41","v":217.3},{"$f":"[1]Лист1!J41","v":2002.8}]
[{"$f":"A6","v":3},{"$f":"B6","v":2}]
{"$rows_empty":8}
[{"$nulls":3},"итого"]
[{"$f":"A6","v":3},{"$f":"B6","v":2},"Итого за день:"]