{"text_format":"3","workbook":"xlsx","n_sheets":1,"sheets":["Лист1"],"not_rendered":{"external_links":2},"read":"whole","date_system":"1900"}

{"sheet":"Лист1","index":0,"n_rows":24,"n_cols":12,"rows_kept":24,"merged":[[0,2,0,4],[0,7,0,10],[1,7,1,10],[2,7,2,10],[23,2,23,3]]}
["Школа",{"$nulls":4},"Утвердил:","должность","директор"]
["Типовое примерное меню приготавливаемых блюд",{"$nulls":5},"фамилия","Юскаева Р.Ф."]
["Возрастная категория",null,null,"5-11 классы",null,null,"дата","2023-09-15"]
[]
["Неделя","День недели","Прием пищи","Раздел меню","Блюда","Вес блюда, г","Белки","Жиры","Углеводы","Калорийность","№ рецептуры","Цена"]
[2,5,"Завтрак","гор.блюдо",{"$f":"[1]Лист1!$C$240","v":"ПЛОВ ИЗ ГОВЯДИНЫ"},210,{"$f":"[2]Page1!G234","v":21.9},{"$f":"[2]Page1!H234","v":21.2},{"$f":"[2]Page1!I234","v":35.5},{"$f":"[2]Page1!J234","v":428},2004]
[{"$nulls":4},"сыр порциями",15,{"$f":"[2]Page1!G233","v":3.95},{"$f":"[2]Page1!H233","v":4},{"$f":"[2]Page1!I233","v":0},{"$f":"[2]Page1!J233","v":52.5},2008]
[{"$nulls":3},"гор.напиток",{"$f":"[1]Лист1!$C$241","v":"ЧАЙ С МОЛОКОМ И САХАРОМ"},200,{"$f":"[1]Лист1!G241","v":1.6},{"$f":"[1]Лист1!H241","v":1.5},{"$f":"[1]Лист1!I241","v":11.3},{"$f":"[1]Лист1!J241","v":62},1996]
[{"$nulls":3},"хлеб",{"$f":"[1]Лист1!$C$238","v":"ХЛЕБ ПШЕНИЧНЫЙ"},60,{"$f":"[2]Page1!G232","v":4.74},{"$f":"[2]Page1!H232","v":0.6},{"$f":"[2]Page1!I232","v":28.98},{"$f":"[2]Page1!J232","v":147.6},2008]
[{"$nulls":3},"фрукты",{"$f":"[1]Лист1!$C$242","v":"СВЕЖИЕ ФРУКТЫ "},100,{"$f":"[2]Page1!G236","v":1},{"$f":"[2]Page1!H236","v":0.3},{"$f":"[2]Page1!I236","v":10.9},{"$f":"[2]Page1!J236","v":81.7},2018]
[]
[]
[{"$nulls":3},"итого",null,null,{"$f":"[2]Page1!G237","v":33.19},{"$f":"[2]Page1!H237","v":27.599999999999998},{"$f":"[2]Page1!I237","v":86.68},{"$f":"[2]Page1!J237","v":771.8000000000001}]
[{"$f":"A6","v":2},{"$f":"B6","v":5}]
{"$rows_empty":8}
[{"$nulls":3},"итого"]
[{"$f":"A6","v":2},{"$f":"B6","v":5},"Итого за день:"]