{"text_format":"3","workbook":"xlsx","n_sheets":1,"sheets":["Лист1"],"not_rendered":{"external_links":1},"read":"whole","date_system":"1900"}

{"sheet":"Лист1","index":0,"n_rows":24,"n_cols":12,"rows_kept":24,"merged":[[0,2,0,4],[0,7,0,10],[1,7,1,10],[2,7,2,10],[23,2,23,3]]}
["Школа",{"$nulls":4},"Утвердил:","должность","директор"]
["Типовое примерное меню приготавливаемых блюд",{"$nulls":5},"фамилия","Юскаева Р.Ф."]
["Возрастная категория",null,null,"5-11 классы",null,null,"дата","1.09.2023 г."]
[]
["Неделя","День недели","Прием пищи","Раздел меню","Блюда","Вес блюда, г","Белки","Жиры","Углеводы","Калорийность","№ рецептуры","Цена"]
[1,1,"Завтрак","гор.блюдо",{"$f":"[1]Page1!$C$234","v":"ПЛОВ ИЗ ГОВЯДИНЫ"},210,21.9,21.2,35.5,428,2004]
[]
[{"$nulls":3},"гор.напиток","чай с молоком и сахаром",200,1.6,1.5,11.3,62,1996]
[{"$nulls":3},"хлеб","хлеб пшеничный",60,4.7,0.6,29,147.6,2008]
[{"$nulls":3},"фрукты","фрукты свежие",100,1,0.3,10.9,81.7]
[{"$nulls":4},"сыр порциями",15,4,4,0,52.5,2008]
[]
[{"$nulls":3},"итого"]
[{"$f":"A6","v":1},{"$f":"B6","v":1},"Обед","закуска","винегрет овощной",100,1.4,2.6,8.2,66,2004]
[{"$nulls":3},"1 блюдо","суп из овощей",250,1.9,3.5,10.7,86,2004]
[{"$nulls":3},"2 блюдо","жаркое по домашнему",240,24.3,24.2,23.5,416,2004]
[{"$nulls":3},"гарнир"]
[{"$nulls":3},"напиток",{"$f":"[1]Page1!$C$242","v":"КОМПОТ ИЗ СМЕСИ СУХОФРУКТОВ"},200,{"$f":"[1]Page1!G242","v":2.4},{"$f":"[1]Page1!H242","v":0.1},{"$f":"[1]Page1!I242","v":41.4},{"$f":"[1]Page1!J242","v":171},2004]
[{"$nulls":3},"хлеб бел.","ХЛЕБ ПШЕНИЧНЫЙ",50,{"$f":"[1]Page1!G244","v":3.8},{"$f":"[1]Page1!H244","v":0.4},{"$f":"[1]Page1!I244","v":24.4},{"$f":"[1]Page1!J244","v":114.8}]
[{"$nulls":3},"хлеб черн.","хлеб ржаной",30,{"$f":"[1]Page1!G243","v":2.6},{"$f":"[1]Page1!H243","v":0.4},{"$f":"[1]Page1!I243","v":17},{"$f":"[1]Page1!J243","v":81.6}]
[{"$nulls":4},"йогурт ",125,{"$f":"[1]Page1!G245","v":4},{"$f":"[1]Page1!H245","v":3.1},{"$f":"[1]Page1!I245","v":5},{"$f":"[1]Page1!J245","v":63.8},2015]
[]
[{"$nulls":3},"итого",null,null,{"$f":"[1]Page1!G246","v":40.4},{"$f":"[1]Page1!H246","v":34.3},{"$f":"[1]Page1!I246","v":130.2},{"$f":"[1]Page1!J246","v":935.4}]
[{"$f":"A6","v":1},{"$f":"B6","v":1},"Итого за день:",{"$nulls":3},{"$f":"[1]Page1!G247","v":73.59},{"$f":"[1]Page1!H247","v":61.89999999999999},{"$f":"[1]Page1!I247","v":216.88},{"$f":"[1]Page1!J247","v":1707.2}]