{"text_format":"3","workbook":"xlsx","n_sheets":1,"sheets":["Лист1"],"not_rendered":{"external_links":2},"read":"whole","date_system":"1900"}

{"sheet":"Лист1","index":0,"n_rows":24,"n_cols":12,"rows_kept":24,"merged":[[0,2,0,4],[0,7,0,10],[1,7,1,10],[2,7,2,10],[23,2,23,3]]}
["Школа",{"$nulls":4},"Утвердил:","должность","директор"]
["Типовое примерное меню приготавливаемых блюд",{"$nulls":5},"фамилия","Юскаева Р.Ф."]
["Возрастная категория",null,null,"1-4 классы",null,null,"дата","1.09.2023 г."]
[]
["Неделя","День недели","Прием пищи","Раздел меню","Блюда","Вес блюда, г","Белки","Жиры","Углеводы","Калорийность","№ рецептуры","Цена"]
[1,1,"Завтрак","гор.блюдо",{"$f":"[1]Page1!$C$234","v":"ПЛОВ ИЗ ГОВЯДИНЫ"},150,{"$f":"[2]Лист1!G240","v":15.7},{"$f":"[2]Лист1!H240","v":15.1},{"$f":"[2]Лист1!I240","v":25.3},{"$f":"[2]Лист1!J240","v":305},2004]
[]
[{"$nulls":3},"гор.напиток","чай с молоком и сахаром",200,{"$f":"[2]Лист1!G241","v":1.6},{"$f":"[2]Лист1!H241","v":1.5},{"$f":"[2]Лист1!I241","v":11.3},{"$f":"[2]Лист1!J241","v":62},1996]
[{"$nulls":3},"хлеб","хлеб пшеничный",50,{"$f":"[2]Лист1!G238","v":4},{"$f":"[2]Лист1!H238","v":0.5},{"$f":"[2]Лист1!I238","v":24.2},{"$f":"[2]Лист1!J238","v":122},2008]
[{"$nulls":3},"фрукты","фрукты свежие",100,{"$f":"[2]Лист1!G242","v":0.4},{"$f":"[2]Лист1!H242","v":0.4},{"$f":"[2]Лист1!I242","v":9.8},{"$f":"[2]Лист1!J242","v":47},2018]
[{"$nulls":4},{"$f":"[2]Лист1!$C$239","v":"МАСЛО СЛИВОЧНОЕ ПОРЦИОННОЕ"},8,{"$f":"[2]Лист1!G239","v":0},{"$f":"[2]Лист1!H239","v":6.6},{"$f":"[2]Лист1!I239","v":0.1},{"$f":"[2]Лист1!J239","v":59.8},2008]
[]
[{"$nulls":3},"итого",null,null,{"$f":"[2]Лист1!G243","v":21.7},{"$f":"[2]Лист1!H243","v":24.099999999999998},{"$f":"[2]Лист1!I243","v":70.7},{"$f":"[2]Лист1!J243","v":595.8}]
[{"$f":"A6","v":1},{"$f":"B6","v":1}]
{"$rows_empty":8}
[{"$nulls":3},"итого"]
[{"$f":"A6","v":1},{"$f":"B6","v":1},"Итого за день:"]